BEGIN:VCALENDAR
VERSION:2.0
PRODID:-//Squarespace Inc/Squarespace 6//v6//EN
BEGIN:VEVENT
UID:58f05e976b8f5b2252fef321@squarespace.com
DTSTAMP:20170414T053741Z
DTSTART:20170425T060000Z
DTEND:20170426T043000Z
SUMMARY:ANZAC DAY 2017
END:VEVENT
END:VCALENDAR
