BEGIN:VCALENDAR
VERSION:2.0
PRODID:-//Squarespace Inc/Squarespace 6//v6//EN
BEGIN:VEVENT
UID:58bf925486e6c0b341fbdeb1@squarespace.com
DTSTAMP:20190205T070518Z
DTSTART:20190317T140000Z
DTEND:20190318T020000Z
SUMMARY:ST PATRICK'S DAY GEORGE STREET TAKEOVER
GEO:-33.857501;151.20866
LOCATION:The Mercantile Hotel\, 25-27 George Street\, The Rocks\, Sydney\, 
 Australia
END:VEVENT
END:VCALENDAR
