BEGIN:VCALENDAR
VERSION:2.0
PRODID:-//Squarespace Inc/Squarespace 6//v6//EN
BEGIN:VEVENT
UID:58bf90ec1e5b6cc4743f1409@squarespace.com
DTSTAMP:20170308T051013Z
DTSTART:20170316T230000Z
DTEND:20170318T040000Z
SUMMARY:PADDY'S DAY EVE
END:VEVENT
END:VCALENDAR
