BEGIN:VCALENDAR
VERSION:2.0
PRODID:-//Squarespace Inc/Squarespace 6//v6//EN
BEGIN:VEVENT
UID:58bf93e920099e457018d388@squarespace.com
DTSTAMP:20170308T052238Z
DTSTART:20170314T150000Z
DTEND:20170315T010000Z
SUMMARY:$10 BACON AND CABBAGE ALL DAY
END:VEVENT
END:VCALENDAR
