BEGIN:VCALENDAR
VERSION:2.0
PRODID:-//Squarespace Inc/Squarespace 6//v6//EN
BEGIN:VEVENT
UID:58bf80ff17bffc3b2fcc32b5@squarespace.com
DTSTAMP:20170308T050110Z
DTSTART:20170315T230000Z
DTEND:20170316T030000Z
SUMMARY:TRAD SESSION 
END:VEVENT
END:VCALENDAR
