BEGIN:VCALENDAR
VERSION:2.0
PRODID:-//Squarespace Inc/Squarespace 6//v6//EN
BEGIN:VEVENT
UID:589a93eab3db2bcc7ad4aac9@squarespace.com
DTSTAMP:20190306T080830Z
DTSTART:20190317T110000Z
DTEND:20190317T132959Z
SUMMARY:St Patrick's Day Breakfast - SOLD OUT!
GEO:-33.857059;151.208328
LOCATION:The Mercantile Hotel\, 25-27 George Street\, The Rocks\, Sydney\, 
 Australia
END:VEVENT
END:VCALENDAR
