BEGIN:VCALENDAR
VERSION:2.0
PRODID:-//Squarespace Inc/Squarespace 6//v6//EN
BEGIN:VEVENT
UID:5c7f805b4785d349f2f2017d@squarespace.com
DTSTAMP:20190306T081822Z
DTSTART:20190317T120000Z
DTEND:20190317T140000Z
SUMMARY:St Patrick's Day Early Bird- SOLD OUT!
GEO:-33.857059;151.208328
LOCATION:The Mercantile Hotel\, 25-27 George Street\, The Rocks\, Sydney\, 
 Australia
END:VEVENT
END:VCALENDAR
