BEGIN:VCALENDAR
VERSION:2.0
PRODID:-//Squarespace Inc/Squarespace 6//v6//EN
BEGIN:VEVENT
UID:5c7f33efe5e5f035147e4e4b@squarespace.com
DTSTAMP:20190306T082822Z
DTSTART:20190316T140000Z
DTEND:20190317T033000Z
SUMMARY:St. Patrick's Day Weekend - Official Dance Competition &amp\; More!
GEO:-33.857059;151.208328
LOCATION:The Mercantile Hotel\, 25-27 George Street\, The Rocks\, Sydney\, 
 Australia
END:VEVENT
END:VCALENDAR
