BEGIN:VCALENDAR
VERSION:2.0
PRODID:-//Squarespace Inc/Squarespace 6//v6//EN
BEGIN:VEVENT
UID:589bba5dd1758eddbde28522@squarespace.com
DTSTAMP:20170308T050039Z
DTSTART:20170312T150000Z
DTEND:20170317T200000Z
SUMMARY:St Patrick's Day Festival Week
END:VEVENT
END:VCALENDAR
