BEGIN:VCALENDAR
VERSION:2.0
PRODID:-//Squarespace Inc/Squarespace 6//v6//EN
BEGIN:VEVENT
UID:58bf8e6fbebafb56b8a3ca94@squarespace.com
DTSTAMP:20170308T050833Z
DTSTART:20170312T160000Z
DTEND:20170313T040000Z
SUMMARY:FAMILY DAY
END:VEVENT
END:VCALENDAR
