BEGIN:VCALENDAR
VERSION:2.0
PRODID:-//Squarespace Inc/Squarespace 6//v6//EN
BEGIN:VEVENT
UID:58ace2efbf629ad3c91f95c1@squarespace.com
DTSTAMP:20170222T012740Z
DTSTART:20170222T013000Z
DTEND:20170222T023000Z
SUMMARY:St Patricks Festival Week Family Day 
END:VEVENT
END:VCALENDAR
