BEGIN:VCALENDAR
VERSION:2.0
PRODID:-//Squarespace Inc/Squarespace 6//v6//EN
BEGIN:VEVENT
UID:58acdbba725e25980158d027@squarespace.com
DTSTAMP:20170222T060330Z
DTSTART:20170228T010000Z
DTEND:20170314T020000Z
SUMMARY:Best Irish Film Of All Time Countdown 
END:VEVENT
END:VCALENDAR
