BEGIN:VCALENDAR
VERSION:2.0
PRODID:-//Squarespace Inc/Squarespace 6//v6//EN
BEGIN:VEVENT
UID:5a34a8620d92972a195c5056@squarespace.com
DTSTAMP:20191220T074320Z
DTSTART:20191226T200000Z
DTEND:20191227T043000Z
SUMMARY:ST. STEPHEN'S DAY/BOXING DAY
GEO:-33.857204;151.208323
LOCATION:The Mercantile Hotel\, 25-27 George Street\, The Rocks\, NSW\, 200
 0\, Australia
END:VEVENT
END:VCALENDAR
