BEGIN:VCALENDAR
VERSION:2.0
PRODID:-//Squarespace Inc/Squarespace 6//v6//EN
BEGIN:VEVENT
UID:59f9357671c10b2fa486c414@squarespace.com
DTSTAMP:20171103T102531Z
DTSTART:20171105T200000Z
DTEND:20171106T000000Z
SUMMARY:SUNDAY SESSIONS
END:VEVENT
END:VCALENDAR
