BEGIN:VCALENDAR
VERSION:2.0
PRODID:-//Squarespace Inc/Squarespace 6//v6//EN
BEGIN:VEVENT
UID:59fc433f24a694f029ab796b@squarespace.com
DTSTAMP:20190430T080720Z
DTSTART:20190505T190000Z
DTEND:20190505T230000Z
SUMMARY:SUNDAY SESSIONS
GEO:-33.857501;151.20866
LOCATION:The Mercantile Hotel\, 25 George Street\, The Rocks\, NSW\, 2000\, 
 Australia
END:VEVENT
END:VCALENDAR
