BEGIN:VCALENDAR
VERSION:2.0
PRODID:-//Squarespace Inc/Squarespace 6//v6//EN
BEGIN:VEVENT
UID:5b2b2f26562fa7f65d122159@squarespace.com
DTSTAMP:20180621T045535Z
DTSTART:20180624T190000Z
DTEND:20180624T230000Z
SUMMARY:SUNDAY SESSIONS WITH MARK BUTLER
GEO:-33.857501;151.20866
LOCATION:The Mercantile Hotel\, 25 George Street\, The Rocks\, NSW\, 2000\, 
 Australia
END:VEVENT
END:VCALENDAR
