BEGIN:VCALENDAR
VERSION:2.0
PRODID:-//Squarespace Inc/Squarespace 6//v6//EN
BEGIN:VEVENT
UID:5c8720c2f9619ac0885faf8d@squarespace.com
DTSTAMP:20190312T030058Z
DTSTART:20190315T200000Z
DTEND:20190316T000000Z
SUMMARY:FRIDAY WITH BLACKWATER
GEO:-33.857501;151.20866
LOCATION:The Mercantile Hotel\, 25 George Street\, The Rocks\, NSW\, 2000\, 
 Australia
END:VEVENT
END:VCALENDAR
