BEGIN:VCALENDAR
VERSION:2.0
PRODID:-//Squarespace Inc/Squarespace 6//v6//EN
BEGIN:VEVENT
UID:5df9cba5ff2cdf507c0235c7@squarespace.com
DTSTAMP:20200101T031640Z
DTSTART:20200104T200000Z
DTEND:20200105T000000Z
SUMMARY:SATURDAY WITH BLACKWATER
GEO:-33.857501;151.20866
LOCATION:The Mercantile Hotel\, 25 George Street\, The Rocks\, NSW\, 2000\, 
 Australia
END:VEVENT
END:VCALENDAR
