BEGIN:VCALENDAR
VERSION:2.0
PRODID:-//Squarespace Inc/Squarespace 6//v6//EN
BEGIN:VEVENT
UID:5e17eb1a0edc8649d09afb5a@squarespace.com
DTSTAMP:20200110T034737Z
DTSTART:20200125T200000Z
DTEND:20200126T000000Z
SUMMARY:SATURDAY WITH BLACKWATER
GEO:-33.857501;151.20866
LOCATION:The Mercantile Hotel\, 25 George Street\, The Rocks\, NSW\, 2000\, 
 Australia
END:VEVENT
END:VCALENDAR
