BEGIN:VCALENDAR
VERSION:2.0
PRODID:-//Squarespace Inc/Squarespace 6//v6//EN
BEGIN:VEVENT
UID:5e2161237cc7f93faf1485bf@squarespace.com
DTSTAMP:20200117T072449Z
DTSTART:20200201T200000Z
DTEND:20200202T000000Z
SUMMARY:SATURDAY WITH BLACKWATER
GEO:-33.857501;151.20866
LOCATION:The Mercantile Hotel\, 25 George Street\, The Rocks\, NSW\, 2000\, 
 Australia
END:VEVENT
END:VCALENDAR
