BEGIN:VCALENDAR
VERSION:2.0
PRODID:-//Squarespace Inc/Squarespace 6//v6//EN
BEGIN:VEVENT
UID:5e291acd78c38064efb902dc@squarespace.com
DTSTAMP:20200123T040241Z
DTSTART:20200208T200000Z
DTEND:20200209T000000Z
SUMMARY:SATURDAY WITH BLACKWATER
GEO:-33.857501;151.20866
LOCATION:The Mercantile Hotel\, 25 George Street\, The Rocks\, NSW\, 2000\, 
 Australia
END:VEVENT
END:VCALENDAR
