BEGIN:VCALENDAR
VERSION:2.0
PRODID:-//Squarespace Inc/Squarespace 6//v6//EN
BEGIN:VEVENT
UID:5e30f4d5ad168b211c4b71e3@squarespace.com
DTSTAMP:20200129T025849Z
DTSTART:20200215T200000Z
DTEND:20200216T000000Z
SUMMARY:SATURDAY WITH BLACKWATER 
GEO:-33.857501;151.20866
LOCATION:The Mercantile Hotel\, 25 George Street\, The Rocks\, NSW\, 2000\, 
 Australia
END:VEVENT
END:VCALENDAR
