BEGIN:VCALENDAR
VERSION:2.0
PRODID:-//Squarespace Inc/Squarespace 6//v6//EN
BEGIN:VEVENT
UID:5e3a3ca679bbef0caa8c0224@squarespace.com
DTSTAMP:20200205T035547Z
DTSTART:20200222T200000Z
DTEND:20200223T000000Z
SUMMARY:SATURDAY WITH BLACKWATER
GEO:-33.857501;151.20866
LOCATION:The Mercantile Hotel\, 25 George Street\, The Rocks\, NSW\, 2000\, 
 Australia
END:VEVENT
END:VCALENDAR
