BEGIN:VCALENDAR
VERSION:2.0
PRODID:-//Squarespace Inc/Squarespace 6//v6//EN
BEGIN:VEVENT
UID:5e46409df95e7200aa67d4a4@squarespace.com
DTSTAMP:20200214T063948Z
DTSTART:20200229T200000Z
DTEND:20200301T000000Z
SUMMARY:SATURDAY WITH BLACKWATER 
GEO:-33.857501;151.20866
LOCATION:The Mercantile Hotel\, 25 George Street\, The Rocks\, NSW\, 2000\, 
 Australia
END:VEVENT
END:VCALENDAR
