BEGIN:VCALENDAR
VERSION:2.0
PRODID:-//Squarespace Inc/Squarespace 6//v6//EN
BEGIN:VEVENT
UID:5e3a5476d29b7f336bb55ce5@squarespace.com
DTSTAMP:20200205T054147Z
DTSTART:20200217T010000Z
DTEND:20200217T160000Z
SUMMARY:SUNDAY NIGHT ROCK
GEO:-33.857501;151.20866
LOCATION:The Mercantile Hotel\, 25 George Street\, The Rocks\, NSW\, 2000\, 
 Australia
END:VEVENT
END:VCALENDAR
