BEGIN:VCALENDAR
VERSION:2.0
PRODID:-//Squarespace Inc/Squarespace 6//v6//EN
BEGIN:VEVENT
UID:5e0c0fd48818570cab73ed42@squarespace.com
DTSTAMP:20200101T032014Z
DTSTART:20200105T200000Z
DTEND:20200106T000000Z
SUMMARY:SUNDAY WITH BLACKWATER
GEO:-33.857501;151.20866
LOCATION:The Mercantile Hotel\, 25 George Street\, The Rocks\, NSW\, 2000\, 
 Australia
END:VEVENT
END:VCALENDAR
