BEGIN:VCALENDAR
VERSION:2.0
PRODID:-//Squarespace Inc/Squarespace 6//v6//EN
BEGIN:VEVENT
UID:5a053e3653450aa7b96b3c01@squarespace.com
DTSTAMP:20180830T052100Z
DTSTART:20180901T190000Z
DTEND:20180901T230000Z
SUMMARY:SATURDAY SESSION
GEO:-33.857501;151.20866
LOCATION:The Mercantile Hotel\, 25 George Street\, The Rocks\, NSW\, 2000\, 
 Australia
END:VEVENT
END:VCALENDAR
