BEGIN:VCALENDAR
VERSION:2.0
PRODID:-//Squarespace Inc/Squarespace 6//v6//EN
BEGIN:VEVENT
UID:5b56da42aa4a997ca1cb989d@squarespace.com
DTSTAMP:20181030T014415Z
DTSTART:20181104T200000Z
DTEND:20181105T000000Z
SUMMARY:SUNDAY CRAIC!
GEO:-33.857501;151.20866
LOCATION:The Mercantile Hotel\, 25 George Street\, The Rocks\, NSW\, 2000\, 
 Australia
END:VEVENT
END:VCALENDAR
