BEGIN:VCALENDAR
VERSION:2.0
PRODID:-//Squarespace Inc/Squarespace 6//v6//EN
BEGIN:VEVENT
UID:5ba32d72aa4a996cab73389d@squarespace.com
DTSTAMP:20181030T014423Z
DTSTART:20181103T190000Z
DTEND:20181103T230000Z
SUMMARY:SATURDAY ENTERTAINMENT
GEO:-33.857501;151.20866
LOCATION:The Mercantile Hotel\, 25 George Street\, The Rocks\, NSW\, 2000\, 
 Australia
END:VEVENT
END:VCALENDAR
