BEGIN:VCALENDAR
VERSION:2.0
PRODID:-//Squarespace Inc/Squarespace 6//v6//EN
BEGIN:VEVENT
UID:5cbbf85db208fc1c56ecc1f3@squarespace.com
DTSTAMP:20190808T040310Z
DTSTART:20190819T000000Z
DTEND:20190819T030000Z
SUMMARY:SUNDAY CRAIC!
GEO:-33.857501;151.20866
LOCATION:The Mercantile Hotel\, 25 George Street\, The Rocks\, NSW\, 2000\, 
 Australia
END:VEVENT
END:VCALENDAR
