BEGIN:VCALENDAR
VERSION:2.0
PRODID:-//Squarespace Inc/Squarespace 6//v6//EN
BEGIN:VEVENT
UID:5de8898219481379a87c576e@squarespace.com
DTSTAMP:20200206T060104Z
DTSTART:20200209T200000Z
DTEND:20200210T000000Z
SUMMARY:SHINDIG SUNDAY SESSION SUPPORTING THE MERC FUNDRAISER
GEO:-33.857501;151.20866
LOCATION:The Mercantile Hotel\, 25 George Street\, The Rocks\, NSW\, 2000\, 
 Australia
END:VEVENT
END:VCALENDAR
