BEGIN:VCALENDAR
VERSION:2.0
PRODID:-//Squarespace Inc/Squarespace 6//v6//EN
BEGIN:VEVENT
UID:5e30f54dc0845d4b9d1fbab4@squarespace.com
DTSTAMP:20200129T030115Z
DTSTART:20200216T200000Z
DTEND:20200217T000000Z
SUMMARY:SUNDAY SESSIONS
GEO:-33.857501;151.20866
LOCATION:The Mercantile Hotel\, 25 George Street\, The Rocks\, NSW\, 2000\, 
 Australia
END:VEVENT
END:VCALENDAR
