BEGIN:VCALENDAR
VERSION:2.0
PRODID:-//Squarespace Inc/Squarespace 6//v6//EN
BEGIN:VEVENT
UID:5e3a3d673d8d7e063bf86b2c@squarespace.com
DTSTAMP:20200205T035851Z
DTSTART:20200223T200000Z
DTEND:20200224T000000Z
SUMMARY:SUNDAY SESSIONS
GEO:-33.857501;151.20866
LOCATION:The Mercantile Hotel\, 25 George Street\, The Rocks\, NSW\, 2000\, 
 Australia
END:VEVENT
END:VCALENDAR
