BEGIN:VCALENDAR
VERSION:2.0
PRODID:-//Squarespace Inc/Squarespace 6//v6//EN
BEGIN:VEVENT
UID:5e464141282c5b032ad729e6@squarespace.com
DTSTAMP:20200214T064253Z
DTSTART:20200301T200000Z
DTEND:20200302T000000Z
SUMMARY:SUNDAY SESSIONS
GEO:-33.857501;151.20866
LOCATION:The Mercantile Hotel\, 25 George Street\, The Rocks\, NSW\, 2000\, 
 Australia
END:VEVENT
END:VCALENDAR
