BEGIN:VCALENDAR
VERSION:2.0
PRODID:-//Squarespace Inc/Squarespace 6//v6//EN
BEGIN:VEVENT
UID:5db0faf869c8dc5b927084eb@squarespace.com
DTSTAMP:20191114T005355Z
DTSTART:20191117T200000Z
DTEND:20191118T000000Z
SUMMARY:SUNDAY SESSIONS
GEO:-33.857501;151.20866
LOCATION:The Mercantile Hotel\, 25 George Street\, The Rocks\, NSW\, 2000\, 
 Australia
END:VEVENT
END:VCALENDAR
