BEGIN:VCALENDAR
VERSION:2.0
PRODID:-//Squarespace Inc/Squarespace 6//v6//EN
BEGIN:VEVENT
UID:5cef7d37bd293b0001bab6b3@squarespace.com
DTSTAMP:20190627T023857Z
DTSTART:20190713T190000Z
DTEND:20190713T230000Z
SUMMARY:PADDYMAN SHOW: CHRISTY MOORE / LUKE KELLY TRIBUTE
GEO:-33.857501;151.20866
LOCATION:The Mercantile Hotel\, 25 George Street\, The Rocks\, NSW\, 2000\, 
 Australia
END:VEVENT
END:VCALENDAR
