BEGIN:VCALENDAR
VERSION:2.0
PRODID:-//Squarespace Inc/Squarespace 6//v6//EN
BEGIN:VEVENT
UID:59e7144ecd39c30b9889fa87@squarespace.com
DTSTAMP:20171021T063350Z
DTSTART:20171021T190000Z
DTEND:20171021T230000Z
SUMMARY:SATURDAY ENTERTAINMENT
GEO:-33.857501;151.20866
LOCATION:Mercantile Hotel\, 25 George Street\, The Rocks\, NSW\, 2000\, Aus
 tralia
END:VEVENT
END:VCALENDAR
