BEGIN:VCALENDAR
VERSION:2.0
PRODID:-//Squarespace Inc/Squarespace 6//v6//EN
BEGIN:VEVENT
UID:5a34aa15652dea7bc2dc9952@squarespace.com
DTSTAMP:20171216T050755Z
DTSTART:20171228T000000Z
DTEND:20171228T040000Z
SUMMARY:WEDNESDAY MUSIC
GEO:-33.857501;151.20866
LOCATION:Mercantile Hotel\, 25 George Street\, The Rocks\, NSW\, 2000\, Aus
 tralia
END:VEVENT
END:VCALENDAR
