BEGIN:VCALENDAR
VERSION:2.0
PRODID:-//Squarespace Inc/Squarespace 6//v6//EN
BEGIN:VEVENT
UID:5a34911f41920241eb667e24@squarespace.com
DTSTAMP:20190218T085731Z
DTSTART:20190219T000000Z
DTEND:20190220T040000Z
SUMMARY:MONDAY &amp\; TUESDAY NIGHT MUSIC
GEO:-33.857501;151.20866
LOCATION:Mercantile Hotel\, 25 George Street\, The Rocks\, NSW\, 2000\, Aus
 tralia
END:VEVENT
END:VCALENDAR
