BEGIN:VCALENDAR
VERSION:2.0
PRODID:-//Squarespace Inc/Squarespace 6//v6//EN
BEGIN:VEVENT
UID:5a38eda8e2c4838a763f5dc8@squarespace.com
DTSTAMP:20171219T104948Z
DTSTART:20180104T000000Z
DTEND:20180104T040000Z
SUMMARY:WEDNESDAY MUSIC
GEO:-33.857501;151.20866
LOCATION:Mercantile Hotel\, 25 George Street\, The Rocks\, NSW\, 2000\, Aus
 tralia
END:VEVENT
END:VCALENDAR
