BEGIN:VCALENDAR
VERSION:2.0
PRODID:-//Squarespace Inc/Squarespace 6//v6//EN
BEGIN:VEVENT
UID:59fc42ae64265fb01e554425@squarespace.com
DTSTAMP:20171216T032543Z
DTSTART:20171223T200000Z
DTEND:20171224T000000Z
SUMMARY:SATURDAY ENTERTAINMENT
GEO:-33.857501;151.20866
LOCATION:Mercantile Hotel\, 25 George Street\, The Rocks\, NSW\, 2000\, Aus
 tralia
END:VEVENT
END:VCALENDAR
