BEGIN:VCALENDAR
VERSION:2.0
PRODID:-//Squarespace Inc/Squarespace 6//v6//EN
BEGIN:VEVENT
UID:5a34aae78165f5e58a63aa51@squarespace.com
DTSTAMP:20180703T082050Z
DTSTART:20180707T190000Z
DTEND:20180707T230000Z
SUMMARY:SATURDAY ENTERTAINMENT WITH PJ & PAT BRADY
GEO:-33.857501;151.20866
LOCATION:Mercantile Hotel\, 25 George Street\, The Rocks\, NSW\, 2000\, Aus
 tralia
END:VEVENT
END:VCALENDAR
