BEGIN:VCALENDAR
VERSION:2.0
PRODID:-//Squarespace Inc/Squarespace 6//v6//EN
BEGIN:VEVENT
UID:5b5fcf4b0e2e72e41dfac3ae@squarespace.com
DTSTAMP:20181127T055040Z
DTSTART:20181201T200000Z
DTEND:20181201T230000Z
SUMMARY:SATURDAY ENTERTAINMENT WITH THE PAT BRADY BAND
GEO:-33.857501;151.20866
LOCATION:Mercantile Hotel\, 25 George Street\, The Rocks\, NSW\, 2000\, Aus
 tralia
END:VEVENT
END:VCALENDAR
