BEGIN:VCALENDAR
VERSION:2.0
PRODID:-//Squarespace Inc/Squarespace 6//v6//EN
BEGIN:VEVENT
UID:5aa63a80ec212d885d03ff21@squarespace.com
DTSTAMP:20180312T083142Z
DTSTART:20180316T200000Z
DTEND:20180317T000000Z
SUMMARY:ST. PATRICK'S DAY EVE!
GEO:-33.857501;151.20866
LOCATION:Mercantile Hotel\, 25 George Street\, The Rocks\, NSW\, 2000\, Aus
 tralia
END:VEVENT
END:VCALENDAR
