BEGIN:VCALENDAR
VERSION:2.0
PRODID:-//Squarespace Inc/Squarespace 6//v6//EN
BEGIN:VEVENT
UID:587c0fcbff7c50c9f5ede7e0@squarespace.com
DTSTAMP:20200110T034910Z
DTSTART:20200126T150000Z
DTEND:20200127T050000Z
SUMMARY:Australia Day Street Party
GEO:-33.857204;151.208323
LOCATION:The Mercantile Hotel\, 25 - 27 George Street\, The Rocks\, NSW\, 2
 000\, Australia
END:VEVENT
END:VCALENDAR
