BEGIN:VCALENDAR
VERSION:2.0
PRODID:-//Squarespace Inc/Squarespace 6//v6//EN
BEGIN:VEVENT
UID:5b5fdec4f950b7af566f1c48@squarespace.com
DTSTAMP:20180731T040132Z
DTSTART:20180802T233000Z
DTEND:20180803T030000Z
SUMMARY:MICK GARNETT LIVE
GEO:-33.857501;151.20866
LOCATION:The Mercantile Hotel\, 25 George Street\, The Rocks\, NSW\, 2000\, 
 Australia
END:VEVENT
END:VCALENDAR
