BEGIN:VCALENDAR
VERSION:2.0
PRODID:-//Squarespace Inc/Squarespace 6//v6//EN
BEGIN:VEVENT
UID:5c2ae42340ec9ab2ea3a6b57@squarespace.com
DTSTAMP:20190101T035335Z
DTSTART:20190102T000000Z
DTEND:20190102T033000Z
SUMMARY:NEW YEAR'S DAY
GEO:-33.857501;151.20866
LOCATION:The Mercantile Hotel\, 25 George Street\, The Rocks\, NSW\, 2000\, 
 Australia
END:VEVENT
END:VCALENDAR
