BEGIN:VCALENDAR
VERSION:2.0
PRODID:-//Squarespace Inc/Squarespace 6//v6//EN
BEGIN:VEVENT
UID:5853219f3e00be7a8280c657@squarespace.com
DTSTAMP:20191220T080000Z
DTSTART:20191231T210000Z
DTEND:20200101T053000Z
SUMMARY:NYE Pre-Firework Party
GEO:-33.857501;151.20866
LOCATION:Mercantile Hotel\, 25 George Street\, The Rocks\, NSW\, 2000\, Aus
 tralia
END:VEVENT
END:VCALENDAR
