BEGIN:VCALENDAR
VERSION:2.0
PRODID:-//Squarespace Inc/Squarespace 6//v6//EN
BEGIN:VEVENT
UID:5850ebb32994ca61ded3da4b@squarespace.com
DTSTAMP:20181224T064818Z
DTSTART:20171224T200000Z
DTEND:20171226T053000Z
SUMMARY:Christmas Eve Party
GEO:-33.857501;151.20866
LOCATION:Mercantile Hotel\, 25 George Street\, The Rocks\, NSW\, 2000\, Aus
 tralia
END:VEVENT
END:VCALENDAR
