BEGIN:VCALENDAR
VERSION:2.0
PRODID:-//Squarespace Inc/Squarespace 6//v6//EN
BEGIN:VEVENT
UID:5c2081322b6a283c72957533@squarespace.com
DTSTAMP:20191220T004054Z
DTSTART:20191225T010000Z
DTEND:20191225T043000Z
SUMMARY:CHRISTMAS EVE PARTY
GEO:-33.857501;151.20866
LOCATION:Mercantile Hotel\, 25 George Street\, The Rocks\, NSW\, 2000\, Aus
 tralia
END:VEVENT
END:VCALENDAR
